BEGIN:VCALENDAR
VERSION:2.0
PRODID:-//Squarespace Inc/Squarespace 6//v6//EN
BEGIN:VEVENT
UID:58edb0cbe3df28b8a0686565@squarespace.com
DTSTAMP:20170412T044608Z
DTSTART:20170905T010000Z
DTEND:20170905T080000Z
SUMMARY:DESMOND: Frankston\, Victoria
GEO:-38.158;145.135
LOCATION:Frankston\, Victoria\, Australia
END:VEVENT
END:VCALENDAR
