BEGIN:VCALENDAR
VERSION:2.0
PRODID:-//Squarespace Inc/Squarespace 6//v6//EN
BEGIN:VEVENT
UID:59c9fa0c64b05fd7ad5cad58@squarespace.com
DTSTAMP:20170926T065724Z
DTSTART:20180117T013000Z
DTEND:20180117T083000Z
SUMMARY:DESMOND: Hilton\, South Australia
END:VEVENT
END:VCALENDAR
