BEGIN:VCALENDAR
VERSION:2.0
PRODID:-//Squarespace Inc/Squarespace 6//v6//EN
BEGIN:VEVENT
UID:5a7292a9f9619ac3d24a93d6@squarespace.com
DTSTAMP:20180201T044454Z
DTSTART:20180223T010000Z
DTEND:20180223T073000Z
SUMMARY:DESMOND: Chermside\, QLD
END:VEVENT
END:VCALENDAR
