BEGIN:VCALENDAR
VERSION:2.0
PRODID:-//Squarespace Inc/Squarespace 6//v6//EN
BEGIN:VEVENT
UID:5a7291e924a694cb29ed3942@squarespace.com
DTSTAMP:20180201T044131Z
DTSTART:20180207T010000Z
DTEND:20180207T073000Z
SUMMARY:DESMOND: Helensvale\, QLD
END:VEVENT
END:VCALENDAR
