BEGIN:VCALENDAR
VERSION:2.0
PRODID:-//Squarespace Inc/Squarespace 6//v6//EN
BEGIN:VEVENT
UID:59c9f8fed7bdce066ff102e6@squarespace.com
DTSTAMP:20170926T065311Z
DTSTART:20180214T013000Z
DTEND:20180214T083000Z
SUMMARY:DESMOND: Hilton\, South Australia
END:VEVENT
END:VCALENDAR
