BEGIN:VCALENDAR
VERSION:2.0
PRODID:-//Squarespace Inc/Squarespace 6//v6//EN
BEGIN:VEVENT
UID:5a7290a48165f596c6ddd2ef@squarespace.com
DTSTAMP:20180201T044007Z
DTSTART:20180203T010000Z
DTEND:20180203T073000Z
SUMMARY:DESMOND: Ipswich\, QLD
END:VEVENT
END:VCALENDAR
