BEGIN:VCALENDAR
VERSION:2.0
PRODID:-//Squarespace Inc/Squarespace 6//v6//EN
BEGIN:VEVENT
UID:5a72921df9619ac3d24a7500@squarespace.com
DTSTAMP:20180201T044140Z
DTSTART:20180219T010000Z
DTEND:20180219T073000Z
SUMMARY:DESMOND: Robina\, QLD
END:VEVENT
END:VCALENDAR
