BEGIN:VCALENDAR
VERSION:2.0
PRODID:-//Squarespace Inc/Squarespace 6//v6//EN
BEGIN:VEVENT
UID:5a7293c371c10b80193c62af@squarespace.com
DTSTAMP:20180201T044534Z
DTSTART:20180321T010000Z
DTEND:20180321T073000Z
SUMMARY:DESMOND: Beaudesert\, QLD
END:VEVENT
END:VCALENDAR
