BEGIN:VCALENDAR
VERSION:2.0
PRODID:-//Squarespace Inc/Squarespace 6//v6//EN
BEGIN:VEVENT
UID:5a72932d652deac3c3813463@squarespace.com
DTSTAMP:20180201T044509Z
DTSTART:20180309T010000Z
DTEND:20180309T073000Z
SUMMARY:DESMOND: Cairns\, QLD
END:VEVENT
END:VCALENDAR
