BEGIN:VCALENDAR
VERSION:2.0
PRODID:-//Squarespace Inc/Squarespace 6//v6//EN
BEGIN:VEVENT
UID:5a7293a3e4966b2c01511d24@squarespace.com
DTSTAMP:20180201T044523Z
DTSTART:20180316T010000Z
DTEND:20180316T073000Z
SUMMARY:DESMOND: Gympie\, QLD
END:VEVENT
END:VCALENDAR
