BEGIN:VCALENDAR
VERSION:2.0
PRODID:-//Squarespace Inc/Squarespace 6//v6//EN
BEGIN:VEVENT
UID:5a7293e8e4966b2c01512dfc@squarespace.com
DTSTAMP:20180201T044541Z
DTSTART:20180328T010000Z
DTEND:20180328T073000Z
SUMMARY:DESMOND: Helensvale\, QLD
END:VEVENT
END:VCALENDAR
