BEGIN:VCALENDAR
VERSION:2.0
PRODID:-//Squarespace Inc/Squarespace 6//v6//EN
BEGIN:VEVENT
UID:59c9f9642278e70c1e089ef0@squarespace.com
DTSTAMP:20170926T065427Z
DTSTART:20180314T013000Z
DTEND:20180314T083000Z
SUMMARY:DESMOND: Hilton\, South Australia
END:VEVENT
END:VCALENDAR
