BEGIN:VCALENDAR
VERSION:2.0
PRODID:-//Squarespace Inc/Squarespace 6//v6//EN
BEGIN:VEVENT
UID:5a72937924a694cb29ed912d@squarespace.com
DTSTAMP:20180201T044528Z
DTSTART:20180316T010000Z
DTEND:20180316T073000Z
SUMMARY:DESMOND: Kingaroy\, QLD
END:VEVENT
END:VCALENDAR
