BEGIN:VCALENDAR
VERSION:2.0
PRODID:-//Squarespace Inc/Squarespace 6//v6//EN
BEGIN:VEVENT
UID:5a729304e4966b2c0150fb76@squarespace.com
DTSTAMP:20180201T044500Z
DTSTART:20180302T010000Z
DTEND:20180302T073000Z
SUMMARY:DESMOND: Logan\, QLD
END:VEVENT
END:VCALENDAR
