BEGIN:VCALENDAR
VERSION:2.0
PRODID:-//Squarespace Inc/Squarespace 6//v6//EN
BEGIN:VEVENT
UID:5a729355e4966b2c01510c3d@squarespace.com
DTSTAMP:20180201T044515Z
DTSTART:20180312T010000Z
DTEND:20180312T073000Z
SUMMARY:DESMOND: Redlands\, QLD
END:VEVENT
END:VCALENDAR
