BEGIN:VCALENDAR
VERSION:2.0
PRODID:-//Squarespace Inc/Squarespace 6//v6//EN
BEGIN:VEVENT
UID:5a729429e2c483babae1c79a@squarespace.com
DTSTAMP:20180201T044556Z
DTSTART:20180428T010000Z
DTEND:20180428T073000Z
SUMMARY:DESMOND: Caboolture\, QLD
END:VEVENT
END:VCALENDAR
