BEGIN:VCALENDAR
VERSION:2.0
PRODID:-//Squarespace Inc/Squarespace 6//v6//EN
BEGIN:VEVENT
UID:5a72944cec212d13b8bb032f@squarespace.com
DTSTAMP:20180201T044602Z
DTSTART:20180430T010000Z
DTEND:20180430T073000Z
SUMMARY:DESMOND: Laidley\, QLD
END:VEVENT
END:VCALENDAR
