BEGIN:VCALENDAR
VERSION:2.0
PRODID:-//Squarespace Inc/Squarespace 6//v6//EN
BEGIN:VEVENT
UID:5a7294680852294e6a1c1121@squarespace.com
DTSTAMP:20180201T044608Z
DTSTART:20180505T010000Z
DTEND:20180505T073000Z
SUMMARY:DESMOND: Ipswich\, QLD
END:VEVENT
END:VCALENDAR
