BEGIN:VCALENDAR
VERSION:2.0
PRODID:-//Squarespace Inc/Squarespace 6//v6//EN
BEGIN:VEVENT
UID:5a7294fce4966b2c015168ee@squarespace.com
DTSTAMP:20180201T044650Z
DTSTART:20180628T010000Z
DTEND:20180628T073000Z
SUMMARY:DESMOND: Caboolture\, QLD
END:VEVENT
END:VCALENDAR
