BEGIN:VCALENDAR
VERSION:2.0
PRODID:-//Squarespace Inc/Squarespace 6//v6//EN
BEGIN:VEVENT
UID:5a7294c50852294e6a1c2552@squarespace.com
DTSTAMP:20180201T044635Z
DTSTART:20180613T010000Z
DTEND:20180613T073000Z
SUMMARY:DESMOND: Chermside\, QLD
END:VEVENT
END:VCALENDAR
