BEGIN:VCALENDAR
VERSION:2.0
PRODID:-//Squarespace Inc/Squarespace 6//v6//EN
BEGIN:VEVENT
UID:5a7294a253450a892aa7bace@squarespace.com
DTSTAMP:20180201T044629Z
DTSTART:20180608T010000Z
DTEND:20180608T073000Z
SUMMARY:DESMOND: Logan\, QLD
END:VEVENT
END:VCALENDAR
