BEGIN:VCALENDAR
VERSION:2.0
PRODID:-//Squarespace Inc/Squarespace 6//v6//EN
BEGIN:VEVENT
UID:5a7294e08165f596c6dec3eb@squarespace.com
DTSTAMP:20180201T044644Z
DTSTART:20180618T010000Z
DTEND:20180618T073000Z
SUMMARY:DESMOND: Robina\, QLD
END:VEVENT
END:VCALENDAR
