BEGIN:VCALENDAR
VERSION:2.0
PRODID:-//Squarespace Inc/Squarespace 6//v6//EN
BEGIN:VEVENT
UID:5aec0f7888251b1f83a2c325@squarespace.com
DTSTAMP:20180504T074805Z
DTSTART:20180906T020000Z
DTEND:20180906T083000Z
SUMMARY:DESMOND: Chelsea\, VIC
END:VEVENT
END:VCALENDAR
