BEGIN:VCALENDAR
VERSION:2.0
PRODID:-//Squarespace Inc/Squarespace 6//v6//EN
BEGIN:VEVENT
UID:5aec0f3d8a922d1fe6543d8b@squarespace.com
DTSTAMP:20180504T074447Z
DTSTART:20180607T020000Z
DTEND:20180607T083000Z
SUMMARY:DESMOND: Chelsea\, VIC
END:VEVENT
END:VCALENDAR
