BEGIN:VCALENDAR
VERSION:2.0
PRODID:-//Squarespace Inc/Squarespace 6//v6//EN
BEGIN:VEVENT
UID:5aec0ed12b6a28e0ef5139b3@squarespace.com
DTSTAMP:20180504T074343Z
DTSTART:20181011T020000Z
DTEND:20181011T083000Z
SUMMARY:DESMOND: Clarinda\, VIC
END:VEVENT
END:VCALENDAR
