BEGIN:VCALENDAR
VERSION:2.0
PRODID:-//Squarespace Inc/Squarespace 6//v6//EN
BEGIN:VEVENT
UID:5aec0e8f562fa73b774d0e26@squarespace.com
DTSTAMP:20180504T074745Z
DTSTART:20180712T020000Z
DTEND:20180712T083000Z
SUMMARY:DESMOND: Clarinda\, VIC
END:VEVENT
END:VCALENDAR
