BEGIN:VCALENDAR
VERSION:2.0
PRODID:-//Squarespace Inc/Squarespace 6//v6//EN
BEGIN:VEVENT
UID:5aec0e5b562fa73b774d0a48@squarespace.com
DTSTAMP:20180504T074054Z
DTSTART:20181108T020000Z
DTEND:20181108T083000Z
SUMMARY:DESMOND: Parkdale\, VIC
END:VEVENT
END:VCALENDAR
