BEGIN:VCALENDAR
VERSION:2.0
PRODID:-//Squarespace Inc/Squarespace 6//v6//EN
BEGIN:VEVENT
UID:5aec0de90e2e72039b7a7b69@squarespace.com
DTSTAMP:20180504T073953Z
DTSTART:20180809T020000Z
DTEND:20180809T083000Z
SUMMARY:DESMOND: Parkdale\, VIC
END:VEVENT
END:VCALENDAR
