BEGIN:VCALENDAR
VERSION:2.0
PRODID:-//Squarespace Inc/Squarespace 6//v6//EN
BEGIN:VEVENT
UID:5aec0a78758d4629e6e3eb1b@squarespace.com
DTSTAMP:20180504T073543Z
DTSTART:20180510T020000Z
DTEND:20180510T083000Z
SUMMARY:DESMOND: Parkdale\, VIC
END:VEVENT
END:VCALENDAR
