BEGIN:VCALENDAR
VERSION:2.0
PRODID:-//Squarespace Inc/Squarespace 6//v6//EN
BEGIN:VEVENT
UID:5a72eb67652deac3c38dbdce@squarespace.com
DTSTAMP:20190328T021756Z
DTSTART:20171231T160000Z
DTEND:20181231T155900Z
SUMMARY:DESMOND: WA
END:VEVENT
END:VCALENDAR
