BEGIN:VCALENDAR
VERSION:2.0
PRODID:-//Squarespace Inc/Squarespace 6//v6//EN
BEGIN:VEVENT
UID:5a729dd09140b7b7add5e203@squarespace.com
DTSTAMP:20190328T023857Z
DTSTART:20171231T160000Z
DTEND:20181231T155900Z
SUMMARY:DESMOND: NSW and ACT
END:VEVENT
END:VCALENDAR
