BEGIN:VCALENDAR
VERSION:2.0
PRODID:-//Squarespace Inc/Squarespace 6//v6//EN
BEGIN:VEVENT
UID:5c9c307e9140b7931ffb0372@squarespace.com
DTSTAMP:20190328T043248Z
DTSTART:20181231T160000Z
DTEND:20191231T155900Z
SUMMARY:DESMOND: NSW and ACT
END:VEVENT
END:VCALENDAR
