BEGIN:VCALENDAR
VERSION:2.0
PRODID:-//Squarespace Inc/Squarespace 6//v6//EN
BEGIN:VEVENT
UID:5c9c36964e17b60b5ac0f540@squarespace.com
DTSTAMP:20190328T043449Z
DTSTART:20181231T160000Z
DTEND:20191231T155900Z
SUMMARY:DESMOND: Tasmania
END:VEVENT
END:VCALENDAR
