BEGIN:VCALENDAR
VERSION:2.0
PRODID:-//Squarespace Inc/Squarespace 6//v6//EN
BEGIN:VEVENT
UID:5c9c370eeb3931377c66aeb8@squarespace.com
DTSTAMP:20190328T043015Z
DTSTART:20181231T160000Z
DTEND:20191231T155900Z
SUMMARY:DESMOND: South Australia
END:VEVENT
END:VCALENDAR
