BEGIN:VCALENDAR
VERSION:2.0
PRODID:-//Squarespace Inc/Squarespace 6//v6//EN
BEGIN:VEVENT
UID:5c9c347b0d9297c5f5689da4@squarespace.com
DTSTAMP:20190328T042749Z
DTSTART:20181231T160000Z
DTEND:20191231T155900Z
SUMMARY:DESMOND: Victoria
END:VEVENT
END:VCALENDAR
